Workbook

Sheet Venituri_previzionate 
B1: X.2 Previzionarea veniturilor
C3: An 0 de implementare | U3: An 0 | V3: An 1 | W3: An 2 | X3: An 3
C4: L1 | D4: L2 | E4: L3 | F4: L4 | G4: L5 | H4: L6 | I4: L7 | J4: L8 | K4: L9 | L4: L10 | M4: L11 | N4: L12 | O4: L13 | P4: L14 | Q4: L15 | R4: L16 | S4: L17 | T4: L18
B5: Cantitate aferenta produsului / serviciului 1- | C5: 0 | D5: 0 | E5: 0 | F5: 0 | G5: 0 | H5: 0 | U5: X | V5: =T5*12 -> 0
B6: Preț mediu aferent produsului / serviciului 1 | C6: 0 | D6: 0 | E6: 0 | F6: 0 | G6: 0 | H6: 0 | U6: X
B7: (1.1.) Total venituri produsului / serviciului 1 | C7: =C5*C6 -> 0 | D7: =D5*D6 -> 0 | E7: =E5*E6 -> 0 | F7: =F5*F6 -> 0 | G7: =G5*G6 -> 0 | H7: =H5*H6 -> 0 | I7: =I5*I6 -> 0 | J7: =J5*J6 -> 0 | ... T7: =T5*T6 -> 0 | U7: =SUM(C7:T7) -> 0 | V7: =V5*V6 -> 0 | W7: =W5*W6 -> 0 | X7: =X5*X6 -> 0
B8: Cantitate aferenta produsului / serviciului 2- | C8: 0 | D8: 0 | E8: 0 | F8: 0 | U8: X | V8: =T8*12 -> 0
B9: Preț mediu aferent produsului / serviciului 2 | C9: 0 | D9: 0 | E9: 0 | F9: 0 | U9: X
B10: (1.2.) Total venituri aferent produsului / serviciului 2 | C10: =C8*C9 -> 0 | D10: =D8*D9 -> 0 | E10: =E8*E9 -> 0 | F10: =F8*F9 -> 0 | G10: =G8*G9 -> 0 | H10: =H8*H9 -> 0 | I10: =I8*I9 -> 0 | J10: =J8*J9 -> 0 | ... T10: =T8*T9 -> 0 | U10: =SUM(C10:T10) -> 0 | V10: =V8*V9 -> 0 | W10: =W8*W9 -> 0 | X10: =X8*X9 -> 0
B11: Cantitate aferenta produsului / serviciului 3 | C11: 0 | D11: 0 | E11: 0 | F11: 0 | G11: 0 | H11: 0 | I11: 0 | J11: 0 | K11: 0 | M11: 0 | N11: 0 | O11: 0 | Q11: 0 | R11: 0 | S11: 0 | U11: X | V11: =T11*12 -> 0
B12: Preț mediu aferent produsului / serviciului 3- | C12: 0 | D12: 0 | E12: 0 | F12: 0 | G12: 0 | H12: 0 | I12: 0 | J12: 0 | K12: 0 | M12: 0 | N12: 0 | O12: 0 | Q12: 0 | R12: 0 | S12: 0 | U12: X
B13: (1. ...) Total venituri aferent produsului / serviciului 3 | C13: =C11*C12 -> 0 | D13: =D11*D12 -> 0 | E13: =E11*E12 -> 0 | F13: =F11*F12 -> 0 | G13: =G11*G12 -> 0 | H13: =H11*H12 -> 0 | I13: =I11*I12 -> 0 | J13: =J11*J12 -> 0 | ... T13: =T11*T12 -> 0 | U13: =SUM(C13:T13) -> 0 | V13: =V11*V12 -> 0 | W13: =W11*W12 -> 0 | X13: =X11*X12 -> 0
C14: 0 | D14: 0 | E14: 0 | F14: 0 | G14: 0 | H14: 0 | I14: 0 | J14: 0 | K14: 0 | M14: 0 | N14: 0 | O14: 0 | Q14: 0 | R14: 0 | S14: 0 | U14: X | V14: =T14*12 -> 0
C15: 0 | D15: 0 | E15: 0 | F15: 0 | G15: 0 | H15: 0 | I15: 0 | J15: 0 | K15: 0 | M15: 0 | N15: 0 | O15: 0 | Q15: 0 | R15: 0 | S15: 0 | U15: X
B16: (1.n.) Total venituri aferent produsului / serviciului | C16: =C14*C15 -> 0 | D16: =D14*D15 -> 0 | E16: =E14*E15 -> 0 | F16: =F14*F15 -> 0 | G16: =G14*G15 -> 0 | H16: =H14*H15 -> 0 | I16: =I14*I15 -> 0 | J16: =J14*J15 -> 0 | ... T16: =T14*T15 -> 0 | U16: =SUM(C16:T16) -> 0 | V16: =V14*V15 -> 0 | W16: =W14*W15 -> 0 | X16: =X14*X15 -> 0
B17: (1.1. + 1.2. + … + 1.n.) Total venituri cumulate | C17: =SUM(C7,C10) -> 0 | D17: =SUM(D7,D10) -> 0 | E17: =SUM(E7,E10) -> 0 | F17: =SUM(F7,F10) -> 0 | G17: =SUM(G7,G10) -> 0 | H17: =SUM(H7,H10) -> 0 | I17: =SUM(I7,I10) -> 0 | J17: =SUM(J7,J10) -> 0 | ... U17: =SUM(U7,U10) -> 0 | V17: =V9*V10 -> 0 | W17: =W9*W10 -> 0 | X17: =X9*X10 -> 0

Sheet Cheltuieli_previzionate
B1: Previzionarea cheltuielilor
C3: An 0 de implementare | U3: An 0 | V3: An 1 | W3: An 2 | X3: An 3
C4: L1 | D4: L2 | E4: L3 | F4: L4 | G4: L5 | H4: L6 | I4: L7 | J4: L8 | K4: L9 | L4: L10 | M4: L11 | N4: L12 | O4: L13 | P4: L14 | Q4: L15 | R4: L16 | S4: L17 | T4: L18
B5: 1.1. Cheltuieli cu salarii | C5: 0 | D5: 0 | E5: 0 | U5: =SUM(C5:N5) -> 0 | V5: =T5*12 -> 0
B6: 1.2. Cheltuieli cu contabilitate, ssm | C6: 0 | D6: 0 | E6: 0 | U6: =SUM(C6:N6) -> 0 | V6: =T6*12 -> 0
B7: 1.3. Cheltuieli cu promovare | C7: 0 | D7: 0 | E7: 0 | U7: =SUM(C7:N7) -> 0 | V7: =T7*12 -> 0
B8: 1.4.Cheltuieli chirii SI UTILITATI | C8: 0 | D8: 0 | E8: 0 | U8: =SUM(C8:N8) -> 0 | V8: =T8*12 -> 0
B9: 1.5.cheltuieli asigurari | C9: 0 | D9: 0 | E9: 0 | U9: =SUM(C9:N9) -> 0 | V9: =T9*12 -> 0
B10: 1.6.cheltuieli maintenanta echipamente si vehicule | C10: 0 | D10: 0 | E10: 0 | U10: =SUM(C10:N10) -> 0 | V10: =T10*12 -> 0
B11: 1.7. Cheltuieli cu consumabile | C11: 0 | D11: 0 | U11: =SUM(C11:N11) -> 0 | V11: =T11*12 -> 0
B12: (1.1. + 1.2. + 1.3. + … + 1.n.) Total cheltuieli de exploatare | C12: =SUM(C5:C11) -> 0 | D12: =SUM(D5:D11) -> 0 | E12: =SUM(E5:E11) -> 0 | F12: =SUM(F5:F11) -> 0 | G12: =SUM(G5:G11) -> 0 | H12: =SUM(H5:H11) -> 0 | I12: =SUM(I5:I11) -> 0 | J12: =SUM(J5:J11) -> 0 | ... X12: =SUM(X5:X11) -> 0
B15: Nume si prenume elaborator:
B16: Semnatura elaborator: ……………………………………..

Sheet CASH-FLOW (CPP)
B2: 8.2. Previzionarea veniturilor si a cheltuielior (cash-flow) – CPP
B3: Nr. | D3: Perioada de implementare (18 luni) | E3: An 1 de monitorizare | F3: An 2 de monitorizare | G3: An 3 de monitorizare
B4: crt.
B5: A | C5: Bugetul proiectului | D5: =SUM(D6) -> 0
C6: Valoarea bugetului în lei (calculat in cadrul PA)
B7: B | C7: VENITURI DIN EXPLOATARE | D7: =SUM(D8:D11) -> 0 | E7: =SUM(E8:E11) -> 0 | F7: =SUM(F8:F11) -> 0 | G7: =SUM(G8:G11) -> 0
C8: (1.1.) Total venituri produsului / serviciului 1 | D8: ='Venituri_previzionate '!U7 -> 0 | E8: ='Venituri_previzionate '!V7 -> 0 | F8: ='Venituri_previzionate '!W7 -> 0 | G8: ='Venituri_previzionate '!X7 -> 0
C9: (1.2.) Total venituri aferent produsului / serviciului 2 | D9: ='Venituri_previzionate '!U10 -> 0 | E9: ='Venituri_previzionate '!V10 -> 0 | F9: ='Venituri_previzionate '!W10 -> 0 | G9: ='Venituri_previzionate '!X10 -> 0
C10: (1.3.) Total venituri aferent produsului / serviciului 3 | D10: ='Venituri_previzionate '!U13 -> 0 | E10: ='Venituri_previzionate '!V13 -> 0 | F10: ='Venituri_previzionate '!W13 -> 0 | G10: ='Venituri_previzionate '!X13 -> 0
C11: (1.n.) Total venituri aferent produsului / serviciului …… | D11: ='Venituri_previzionate '!U16 -> 0 | E11: ='Venituri_previzionate '!V16 -> 0 | F11: ='Venituri_previzionate '!W16 -> 0 | G11: ='Venituri_previzionate '!X16 -> 0
B12: C | C12: CHELTUIELI DE EXPLOATARE | D12: =SUM(D13:D19) -> 0 | E12: =SUM(E13:E19) -> 0 | F12: =SUM(F13:F19) -> 0 | G12: =SUM(G13:G19) -> 0
C13: 1.1. Cheltuieli cu salarii | D13: =Cheltuieli_previzionate!U5 -> 0 | E13: =Cheltuieli_previzionate!V5 -> 0 | F13: =Cheltuieli_previzionate!W5 -> 0 | G13: =Cheltuieli_previzionate!X5 -> 0
C14: 1.2. Cheltuieli cu contabilitate, ssm | D14: =Cheltuieli_previzionate!U6 -> 0 | E14: =Cheltuieli_previzionate!V6 -> 0 | F14: =Cheltuieli_previzionate!W6 -> 0 | G14: =Cheltuieli_previzionate!X6 -> 0
C15: 1.3. Cheltuieli cu promovare | D15: =Cheltuieli_previzionate!U7 -> 0 | E15: =Cheltuieli_previzionate!V7 -> 0 | F15: =Cheltuieli_previzionate!W7 -> 0 | G15: =Cheltuieli_previzionate!X7 -> 0
C16: 1.4.Cheltuieli chirii SI UTILITATI | D16: =Cheltuieli_previzionate!U8 -> 0 | E16: =Cheltuieli_previzionate!V8 -> 0 | F16: =Cheltuieli_previzionate!W8 -> 0 | G16: =Cheltuieli_previzionate!X8 -> 0
C17: 1.5.cheltuieli asigurari | D17: =Cheltuieli_previzionate!U9 -> 0 | E17: =Cheltuieli_previzionate!V9 -> 0 | F17: =Cheltuieli_previzionate!W9 -> 0 | G17: =Cheltuieli_previzionate!X9 -> 0
C18: 1.6.cheltuieli maintenanta echipamente si vehicule | D18: =Cheltuieli_previzionate!U10 -> 0 | E18: =Cheltuieli_previzionate!V10 -> 0 | F18: =Cheltuieli_previzionate!W10 -> 0 | G18: =Cheltuieli_previzionate!X10 -> 0
C19: 1.7. Cheltuieli cu consumabile | D19: =Cheltuieli_previzionate!U11 -> 0 | E19: =Cheltuieli_previzionate!V11 -> 0 | F19: =Cheltuieli_previzionate!W11 -> 0 | G19: =Cheltuieli_previzionate!X11 -> 0
C20: 1.n. Cheltuieli cu …. | D20: =Cheltuieli_previzionate!U12 -> 0 | E20: =Cheltuieli_previzionate!V12 -> 0 | F20: =Cheltuieli_previzionate!W12 -> 0 | G20: =Cheltuieli_previzionate!X12 -> 0
B21: D | C21: Rezultat brut din exploatare (profit sau pierdere) (B-C) | D21: =D7-D12 -> 0 | E21: =E7-E12 -> 0 | F21: =F7-F12 -> 0 | G21: =G7-G12 -> 0
